BEGIN:VCALENDAR
VERSION:2.0
PRODID:icalendar-ruby
CALSCALE:GREGORIAN
METHOD:PUBLISH
BEGIN:VEVENT
DTSTAMP:20260423T202231Z
UID:101-135833@eastsidelutherancc.org
DTSTART:20260727T160000Z
DTEND:20260731T190000Z
CLASS:PUBLIC
CREATED:20260423T082743
DESCRIPTION: \nWe are exploring the theme of sharing stories\, sharing foo
 d\, breaking bread\, and loving our neighbors. Come and Gather "At the Tab
 le" as we explore five Biblical stories featuring table\, bread and God's 
 Word. Come learn about what it means to share a meal with a neighbor\, mak
 e crafts\, do fun science\, bake bread and more. Children in kindergarten 
 thru sixth grade are invited to attend.\nA suggested donation of $20 per p
 articipant with a max family donation of $40 is appreciated. No child will
  be turned away. For more information or to volunteer contact Melinda at m
 elinda@slukes.org. 
LAST-MODIFIED:20260423T082743
LOCATION:St. Luke's Lutheran
SUMMARY:Vacation Bible School
URL;VALUE=URI:https://www.eastsidelutherancc.org/events/vacation-bible-scho
 ol/2026-07-27
ATTACH;FILENAME=VBS2026.jpg;FMTTYPE=image/jpeg:https://dq5pwpg1q8ru0.cloudf
 ront.net/2026/04/16/15/32/18/df5a05a1-5bf5-4d1d-a936-d3cbf4f7fdff/VBS2026.
 jpg
ATTACH;FILENAME=Activities-Include-4.jpg;FMTTYPE=image/jpeg:https://dq5pwpg
 1q8ru0.cloudfront.net/2026/04/16/15/32/18/67a6bde8-75b8-4c54-844a-4918cb8d
 0b52/Activities-Include-4.jpg
END:VEVENT
END:VCALENDAR
