BEGIN:VCALENDAR
VERSION:2.0
PRODID:icalendar-ruby
CALSCALE:GREGORIAN
METHOD:PUBLISH
BEGIN:VEVENT
DTSTAMP:20260423T200824Z
UID:103-135830@eastsidelutherancc.org
DTSTART:20260720T160000Z
DTEND:20260724T190000Z
CLASS:PUBLIC
CREATED:20260423T082417
DESCRIPTION:VBS: At the Table\n |Sammamish Hills Lutheran Church\n\nVBS - J
 uly 20-24 - 9-12pm (PreK- 6th) Come and gather "At the Table" as we explor
 e five Biblical stories featuring bread and God's Word. Learn about what i
 t means to be a share a meal with a neighbor\, make crafts\, bake bread\, 
 and more!\nCost: Early bird (by June 21) $45 per child (if 3+ children fro
 m same family $125 total)\nAfter June 21nd - $55 per child (if 3+ children
  from same household $155 total).Medical release and payment details can b
 e found on the registration page. \n
LAST-MODIFIED:20260423T082417
LOCATION:Sammamish Hills Lutheran Church
SUMMARY:Vacation Bible School
URL;VALUE=URI:https://www.eastsidelutherancc.org/events/vacation-bible-scho
 ol--103/2026-07-20
ATTACH;FILENAME=3.png;FMTTYPE=image/png:https://dq5pwpg1q8ru0.cloudfront.ne
 t/2026/04/23/15/24/16/67cb85ed-356e-4b3d-a7c2-7bbecfe49e14/3.png
END:VEVENT
END:VCALENDAR
