BEGIN:VCALENDAR
VERSION:2.0
PRODID:icalendar-ruby
CALSCALE:GREGORIAN
METHOD:PUBLISH
BEGIN:VEVENT
DTSTAMP:20260423T183545Z
UID:102-135829@eastsidelutherancc.org
DTSTART:20260713T160000Z
DTEND:20260717T190000Z
CLASS:PUBLIC
CREATED:20260423T082023
DESCRIPTION:FREE VBS: At the table\nMon\, Jul 13  |  Mt Si Lutheran Churc
 h\nFREE VBS- July 13-17 - 9-12pm (K- 6th)\nCome and gather "At the Table" 
 as we explore five Biblical stories featuring bread and God's Word. Learn 
 more about what it means to be a share a meal with a neighbor\, make craft
 s\, bake bread\, and more!\n\nRegistration closes Jul 06\, 2026\, 8:00 AM
LAST-MODIFIED:20260423T082023
LOCATION:Mt. Si Lutheran
SUMMARY:Vacation Bible School
URL;VALUE=URI:https://www.eastsidelutherancc.org/events/vacation-bible-scho
 ol--102/2026-07-13
ATTACH;FILENAME=1.png;FMTTYPE=image/png:https://dq5pwpg1q8ru0.cloudfront.ne
 t/2026/04/23/15/18/32/33bd90fb-c27e-40cc-818e-c8c367eab704/1.png
END:VEVENT
END:VCALENDAR
