BEGIN:VCALENDAR
VERSION:2.0
PRODID:icalendar-ruby
CALSCALE:GREGORIAN
METHOD:PUBLISH
BEGIN:VEVENT
DTSTAMP:20260423T184651Z
UID:98-135817@eastsidelutherancc.org
DTSTART:20260515T020000Z
DTEND:20260515T033000Z
CLASS:PUBLIC
CREATED:20260415T102553
DESCRIPTION:King County Young Adults (ages 18-35) will have a 2-part book s
 tudy. We are discussing "Hope is Here" by Luther E. Smith\, Jr. .\nThe mee
 tings are hybrid. In person will gather at Holy Trinity with refreshments 
 provided. \nThe first half of the book will be discussed Thursday\, May 1
 4 at 7:00 PM. \nThe concluding half will be discussed Sunday\, May 31 at 
 1:00 PM. \nContact Julia Glassy for more information: julia.glassy@htlcmi
 .org
LAST-MODIFIED:20260415T102553
LOCATION:Holy Trinity Lutheran Church\, Mercer Island
SUMMARY:Synod Young Adult Gather
URL;VALUE=URI:https://www.eastsidelutherancc.org/events/synod-young-adult-g
 ather/2026-05-14
ATTACH;FILENAME=ELCC-gather.jpg;FMTTYPE=image/jpeg:https://dq5pwpg1q8ru0.cl
 oudfront.net/2026/04/15/17/25/53/36208fa0-09af-4e96-9f1c-9469f3d14ed9/ELCC
 -gather.jpg
END:VEVENT
END:VCALENDAR
