BEGIN:VCALENDAR
VERSION:2.0
PRODID:icalendar-ruby
CALSCALE:GREGORIAN
METHOD:PUBLISH
BEGIN:VEVENT
DTSTAMP:20260423T184222Z
UID:99-135825@eastsidelutherancc.org
DTSTART:20260606T200000Z
DTEND:20260606T220000Z
CLASS:PUBLIC
CREATED:20260422T112103
DESCRIPTION:Would you like to learn how to disagree better? How to explore 
 where we differ\, and how to recognize what we share across the gap of pol
 itical views? Then please join us at this workshop as we learn and practi
 ce skills for listening carefully\, looking for common ground\, and sharin
 g our perspectives in ways that connect rather than create more misunderst
 anding. We encourage you to invite those from your circle with different v
 iews. This workshop is about sharing experiences and finding common groun
 d\, not about debate or persuasion. All viewpoints are welcome. We hope yo
 u’ll join us\, and stay tuned for how you can register.
LAST-MODIFIED:20260422T112103
LOCATION:St. Luke's Lutheran
SUMMARY:Skills for Disagreeing Better Workshop
URL;VALUE=URI:https://www.eastsidelutherancc.org/events/skills-for-disagree
 ing-better-workshop/2026-06-06
ATTACH;FILENAME=BraverAngels.jpg;FMTTYPE=image/jpeg:https://dq5pwpg1q8ru0.c
 loudfront.net/2026/04/15/23/25/51/982929da-b81d-4779-b5fe-88f88aee4190/Bra
 verAngels.jpg
END:VEVENT
END:VCALENDAR
