BEGIN:VCALENDAR
VERSION:2.0
PRODID:icalendar-ruby
CALSCALE:GREGORIAN
METHOD:PUBLISH
BEGIN:VEVENT
DTSTAMP:20260423T171030Z
UID:96-135813@eastsidelutherancc.org
DTSTART:20260419T190000Z
DTEND:20260510T190000Z
CLASS:PUBLIC
CREATED:20260410T081244
DESCRIPTION: “PEOPLE OF THE RESISTANCE: FOLLOWING JESUS IN TIMES SUCH AS
  THIS:\nApril 19\, 26\, May 3 and May 10\nLed by Rev. Dr. Rick Rouse and R
 ev. Dr. Michael Trice\n\nSession One:  “The Threat of Christian Nationa
 lism:  Competing Visions for Christianity in America” \nSession Two: 
  “Faith and Civic Life:  What Happens When Our Core Values Are Under A
 ttack?”\nSession Three: “How We Lead Matters: Cruelty and Beauty in Ou
 r Common Life” (Michael Trice)\nSession Four:  “Courageous Disciplesh
 ip in Action:  What Does it Mean to be a Person of Faith and a Member of 
 the Resistance?”\nEach Sunday class is hybrid and if you wish to get the
  ZOOM link\, contact Marko Jokinen at aerofinn@aol.com   Each session wil
 l also be recorded and available on the Our Saviors YouTube channel. You c
 an get the link for each recording from Marko as well.  
LAST-MODIFIED:20260410T081244
LOCATION:Our Savior Lutheran Church
SUMMARY:People of the Resistance
URL;VALUE=URI:https://www.eastsidelutherancc.org/events/people-of-the-resis
 tance/2026-04-19
END:VEVENT
END:VCALENDAR
