BEGIN:VCALENDAR
VERSION:2.0
PRODID:icalendar-ruby
CALSCALE:GREGORIAN
METHOD:PUBLISH
BEGIN:VEVENT
DTSTAMP:20260423T184400Z
UID:97-135816@eastsidelutherancc.org
DTSTART:20260711T170000Z
DTEND:20260711T190000Z
CLASS:PUBLIC
CREATED:20260415T091702
DESCRIPTION:Our next ELCC meeting will be at St. Andrew's. Church Council /
  Trustees are strongly encouraged to attend\, but EVERYONE is invited to j
 oin the discussion\, to share ideas and connect with fellow ELCC members.
LAST-MODIFIED:20260415T091702
LOCATION:Saint Andrew's Fellowship Hall
SUMMARY:ELCC All-Call Stakeholders Meeting
URL;VALUE=URI:https://www.eastsidelutherancc.org/events/elcc-all-call-stake
 holders-meeting/2026-07-11
ATTACH;FILENAME=ELCC-All-Call-Stakeholder-Meeting.jpg;FMTTYPE=image/jpeg:ht
 tps://dq5pwpg1q8ru0.cloudfront.net/2026/04/15/16/16/41/8006312b-15a0-4247-
 8841-befb8ba69eea/ELCC-All-Call-Stakeholder-Meeting.jpg
END:VEVENT
END:VCALENDAR
